BEGIN:VCALENDAR
VERSION:2.0
PRODID:-//Münchner Schatzsuche - Spaziergänge und Führungen in München - ECPv6.15.20//NONSGML v1.0//EN
CALSCALE:GREGORIAN
METHOD:PUBLISH
X-WR-CALNAME:Münchner Schatzsuche - Spaziergänge und Führungen in München
X-ORIGINAL-URL:https://muenchnerschatzsuche.de
X-WR-CALDESC:Veranstaltungen für Münchner Schatzsuche - Spaziergänge und Führungen in München
REFRESH-INTERVAL;VALUE=DURATION:PT1H
X-Robots-Tag:noindex
X-PUBLISHED-TTL:PT1H
BEGIN:VTIMEZONE
TZID:Europe/Berlin
BEGIN:DAYLIGHT
TZOFFSETFROM:+0100
TZOFFSETTO:+0200
TZNAME:CEST
DTSTART:20250330T010000
END:DAYLIGHT
BEGIN:STANDARD
TZOFFSETFROM:+0200
TZOFFSETTO:+0100
TZNAME:CET
DTSTART:20251026T010000
END:STANDARD
BEGIN:DAYLIGHT
TZOFFSETFROM:+0100
TZOFFSETTO:+0200
TZNAME:CEST
DTSTART:20260329T010000
END:DAYLIGHT
BEGIN:STANDARD
TZOFFSETFROM:+0200
TZOFFSETTO:+0100
TZNAME:CET
DTSTART:20261025T010000
END:STANDARD
BEGIN:DAYLIGHT
TZOFFSETFROM:+0100
TZOFFSETTO:+0200
TZNAME:CEST
DTSTART:20270328T010000
END:DAYLIGHT
BEGIN:STANDARD
TZOFFSETFROM:+0200
TZOFFSETTO:+0100
TZNAME:CET
DTSTART:20271031T010000
END:STANDARD
END:VTIMEZONE
BEGIN:VEVENT
DTSTART;TZID=Europe/Berlin:20260425T110000
DTEND;TZID=Europe/Berlin:20260425T130000
DTSTAMP:20260425T121942
CREATED:20251027T165706Z
LAST-MODIFIED:20251027T165706Z
UID:10000437-1777114800-1777122000@muenchnerschatzsuche.de
SUMMARY:Worte malen\, Malerei schreiben\, Texte in Architektur verwandeln -- Die Fünf Höfe: Literatur trifft Architektur
DESCRIPTION:Der Schweizer Autor und Künstler Rémy Zaugg (1943-2005) hat in München in der Zusammenarbeit mit den Architekten Herzog und De Meuron in den FÜNF HÖFEN poetische Kunstwerke installiert. \nFür Zauggs Werk zentral ist die Beziehung von gemalten Texten zum umgebenden Raum. Philosophie\, Poesie und die Bildfunktion der Texte werden wir in den fünf farbigen Foyers der FÜNF HÖFE entdecken\, die den Text „Andere Räume“ des französischen Philosophen Michel Foucault (19261984) in (Innen-)Architektur verwandeln. Spazieren Sie durch ein Raum-Text-Passagenkunstwerk.
URL:https://muenchnerschatzsuche.de/stadtfuehrung-muenchen/worte-malen-malerei-schreiben-texte-in-architektur-verwandeln-die-fuenf-hoefe-literatur-trifft-architektur/
LOCATION:Treff: Eingang zur Kunsthalle\, Theatinerstr. 8\, München\, 80333
CATEGORIES:Alle Stadtführungen,Stadtführungen PUR
ATTACH;FMTTYPE=image/jpeg:https://muenchnerschatzsuche.de/wp-content/uploads/2025/10/Im-Schattenkabinett_Fuenf-Hoefe_c-Anette-Spieldiener-scaled.jpg
ORGANIZER;CN="M%C3%BCnchner Schatzsuche - Anette Spieldiener":MAILTO:auf@muenchner-schatzsuche.de
GEO:48.1398079;11.575988
X-APPLE-STRUCTURED-LOCATION;VALUE=URI;X-ADDRESS=Treff: Eingang zur Kunsthalle Theatinerstr. 8 München 80333;X-APPLE-RADIUS=500;X-TITLE=Theatinerstr. 8:geo:11.575988,48.1398079
END:VEVENT
END:VCALENDAR